BEGIN:VCALENDAR
VERSION:2.0
X-WR-CALNAME:EventsCalendar
PRODID:-//hacksw/handcal//NONSGML v1.0//EN
CALSCALE:GREGORIAN
BEGIN:VTIMEZONE
TZID:America/New_York
LAST-MODIFIED:20240422T053451Z
TZURL:https://www.tzurl.org/zoneinfo-outlook/America/New_York
X-LIC-LOCATION:America/New_York
BEGIN:DAYLIGHT
TZNAME:EDT
TZOFFSETFROM:-0500
TZOFFSETTO:-0400
DTSTART:19700308T020000
RRULE:FREQ=YEARLY;BYMONTH=3;BYDAY=2SU
END:DAYLIGHT
BEGIN:STANDARD
TZNAME:EST
TZOFFSETFROM:-0400
TZOFFSETTO:-0500
DTSTART:19701101T020000
RRULE:FREQ=YEARLY;BYMONTH=11;BYDAY=1SU
END:STANDARD
END:VTIMEZONE
BEGIN:VEVENT
CATEGORIES:Study Abroad
DESCRIPTION:Interested in studying abroad? Do you have a quick question a
 bout the opportunities that are available or the overall process? Have q
 uestions about scholarships available to support your study abroad experie
 nce? Stop by the International Programs Office (IPO) in the Library 233!
  Students will be seen on a first come, first served basis. \nEvent pa
 ge: https://www.umassd.edu/events/cms/study-abroad-walk-in-advising.php
X-ALT-DESC;FMTTYPE=text/html:<html><body><p>Interested in studying abroad?
  Do you have a quick question about the opportunities that are available
  or the overall process? Have questions about scholarships available to 
 support your study abroad experience? Stop by the International Programs 
 Office (IPO) in the Library 233! Students will be seen on a first come\,
  first served basis. </p><p>Event page: <a href="https://www.umassd.edu/
 events/cms/study-abroad-walk-in-advising.php">https://www.umassd.edu/event
 s/cms/study-abroad-walk-in-advising.php</a></a></p></body></html>
DTSTAMP:20260419T112657
DTSTART;TZID=America/New_York:20260422T140000
DTEND;TZID=America/New_York:20260422T170000
LOCATION:Library 233
SUMMARY;LANGUAGE=en-us:Study Abroad Walk-in Advising
UID:b8c3237a16d205135674edeab88cfa25@www.umassd.edu
END:VEVENT
END:VCALENDAR
