BEGIN:VCALENDAR
VERSION:2.0
X-WR-CALNAME:EventsCalendar
PRODID:-//hacksw/handcal//NONSGML v1.0//EN
CALSCALE:GREGORIAN
BEGIN:VTIMEZONE
TZID:America/New_York
LAST-MODIFIED:20240422T053451Z
TZURL:https://www.tzurl.org/zoneinfo-outlook/America/New_York
X-LIC-LOCATION:America/New_York
BEGIN:DAYLIGHT
TZNAME:EDT
TZOFFSETFROM:-0500
TZOFFSETTO:-0400
DTSTART:19700308T020000
RRULE:FREQ=YEARLY;BYMONTH=3;BYDAY=2SU
END:DAYLIGHT
BEGIN:STANDARD
TZNAME:EST
TZOFFSETFROM:-0400
TZOFFSETTO:-0500
DTSTART:19701101T020000
RRULE:FREQ=YEARLY;BYMONTH=11;BYDAY=1SU
END:STANDARD
END:VTIMEZONE
BEGIN:VEVENT
CATEGORIES:Frederick Douglass Unity House,Leduc Center for Civic Engagement
DESCRIPTION:Feel the vibration of community, culture, and Deep Afro Jazz Ho
 use Music at The THUMP & SOUL “Unity” SESSION, happening Friday, March
  27 at 8 PM inside the Frederick Douglass Unity House at University of Mas
 sachusetts Dartmouth, 285 Old Westport Rd, North Dartmouth. Set within one
  of campus’ most powerful cultural spaces, this special Unity edition of
  THUMP & SOUL transforms the Frederick Douglass Unity House into an intima
 te, rhythm charged gathering built on connection and collective energy. On
  deck are The ZYG 808, DaPhunkee Professor, and Casey Figueroa of WAMPTRON
 ICA, delivering their signature Deep Afro Jazz House Music blends of soulf
 ul house, Afrobeat, jazz inflections, R&B warmth, and basslines that move 
 both body and spirit. Expect immersive grooves, layered percussion, intent
 ional musical storytelling, and a welcoming dance floor where students, fa
 culty, and community members come together in unity. Whether you are a sea
 soned house head or simply curious about vibrant campus nightlife, this se
 ssion invites you to step into a space where rhythm becomes connection. Fu
 el your movement with fresh, healthy drinks from True North Nutrition, on 
 hand to keep the energy high and the vibe balanced all night long.If you
 ’re looking for live DJs, underground dance music, and a positive, commu
 nity driven experience at UMass Dartmouth, The THUMP & SOUL “Unity” SE
 SSION is where you want to be. Doors open at 8 PM; bring your friends, bri
 ng your energy, and come ready to move.  \nEvent page: https://www.umassd
 .edu/events/cms/the-thump--soul-unity-session-1.php
X-ALT-DESC;FMTTYPE=text/html:<html><body><p>Feel the vibration of community
 \, culture\, and Deep Afro Jazz House Music at The THUMP & SOUL “Unity
 ” SESSION\, happening Friday\, March 27 at 8 PM inside the Frederick Dou
 glass Unity House at University of Massachusetts Dartmouth\, 285 Old Westp
 ort Rd\, North Dartmouth.</p>\n<p>Set within one of campus’ most powerfu
 l cultural spaces\, this special Unity edition of THUMP & SOUL transforms 
 the Frederick Douglass Unity House into an intimate\, rhythm charged gathe
 ring built on connection and collective energy. On deck are The ZYG 808\, 
 DaPhunkee Professor\, and Casey Figueroa of WAMPTRONICA\, delivering their
  signature Deep Afro Jazz House Music blends of soulful house\, Afrobeat\,
  jazz inflections\, R&B warmth\, and basslines that move both body and spi
 rit.</p>\n<p>Expect immersive grooves\, layered percussion\, intentional m
 usical storytelling\, and a welcoming dance floor where students\, faculty
 \, and community members come together in unity. Whether you are a seasone
 d house head or simply curious about vibrant campus nightlife\, this sessi
 on invites you to step into a space where rhythm becomes connection.</p>\n
 <p>Fuel your movement with fresh\, healthy drinks from True North Nutritio
 n\, on hand to keep the energy high and the vibe balanced all night long.<
 br />If you’re looking for live DJs\, underground dance music\, and a po
 sitive\, community driven experience at UMass Dartmouth\, The THUMP & SOUL
  “Unity” SESSION is where you want to be. Doors open at 8 PM\; bring y
 our friends\, bring your energy\, and come ready to move.</p>\n<p> </p><p
 >Event page: <a href="https://www.umassd.edu/events/cms/the-thump--soul-un
 ity-session-1.php">https://www.umassd.edu/events/cms/the-thump--soul-unity
 -session-1.php</a></a></p></body></html>
DTSTAMP:20260421T183551
DTSTART;TZID=America/New_York:20260327T200000
DTEND;TZID=America/New_York:20260327T233000
LOCATION:Frederick Douglass Unity House
SUMMARY;LANGUAGE=en-us:The THUMP & SOUL 'Unity' SESSION
UID:06bf8d35874e8470ab2c2daf6021ad70@www.umassd.edu
END:VEVENT
END:VCALENDAR
