BEGIN:VCALENDAR
VERSION:2.0
X-WR-CALNAME:EventsCalendar
PRODID:-//hacksw/handcal//NONSGML v1.0//EN
CALSCALE:GREGORIAN
BEGIN:VTIMEZONE
TZID:America/New_York
LAST-MODIFIED:20240422T053451Z
TZURL:https://www.tzurl.org/zoneinfo-outlook/America/New_York
X-LIC-LOCATION:America/New_York
BEGIN:DAYLIGHT
TZNAME:EDT
TZOFFSETFROM:-0500
TZOFFSETTO:-0400
DTSTART:19700308T020000
RRULE:FREQ=YEARLY;BYMONTH=3;BYDAY=2SU
END:DAYLIGHT
BEGIN:STANDARD
TZNAME:EST
TZOFFSETFROM:-0400
TZOFFSETTO:-0500
DTSTART:19701101T020000
RRULE:FREQ=YEARLY;BYMONTH=11;BYDAY=1SU
END:STANDARD
END:VTIMEZONE
BEGIN:VEVENT
CATEGORIES:College of Engineering,Lectures and Seminars,Thesis/Dissertation
 s
DESCRIPTION:Partial abstract: Small manufacturing facilities frequently fac
 e challenges stemming from disorganized layouts, inadequate management pra
 ctices, and reactive maintenance procedures.  These conditions generate o
 perational waste and create bottlenecks that reduce production efficiency.
 ..  For the full abstract, advisor and committee members please contact S
 ue Cunha (scunha@umassd.edu).  Thank you!\nEvent page: https://www.umassd
 .edu/events/cms/mechanical-engineering-ms-project-presentation-by-mr-joshu
 a-letizia.php
X-ALT-DESC;FMTTYPE=text/html:<html><body><p>Partial abstract: Small manufac
 turing facilities frequently face challenges stemming from disorganized la
 youts\, inadequate management practices\, and reactive maintenance procedu
 res.  These conditions generate operational waste and create bottlenecks 
 that reduce production efficiency...  For the full abstract\, advisor and
  committee members please contact Sue Cunha (scunha@umassd.edu).  Thank y
 ou!</p><p>Event page: <a href="https://www.umassd.edu/events/cms/mechanica
 l-engineering-ms-project-presentation-by-mr-joshua-letizia.php">https://ww
 w.umassd.edu/events/cms/mechanical-engineering-ms-project-presentation-by-
 mr-joshua-letizia.php</a></a></p></body></html>
DTSTAMP:20260422T064737
DTSTART;TZID=America/New_York:20260514T100000
DTEND;TZID=America/New_York:20260514T120000
LOCATION:SENG-110 (Materials Science Lab) -and- on ZOOM (for Zoom info, ple
 ase contact: scunha@umassd.edu)
SUMMARY;LANGUAGE=en-us:Mechanical Engineering MS Project Presentation by Mr
 . Joshua Letizia
UID:986d93dd0d49c52d45c8ba8184c4ad16@www.umassd.edu
END:VEVENT
END:VCALENDAR
