BEGIN:VCALENDAR
VERSION:2.0
X-WR-CALNAME:EventsCalendar
PRODID:-//hacksw/handcal//NONSGML v1.0//EN
CALSCALE:GREGORIAN
BEGIN:VTIMEZONE
TZID:America/New_York
LAST-MODIFIED:20240422T053451Z
TZURL:https://www.tzurl.org/zoneinfo-outlook/America/New_York
X-LIC-LOCATION:America/New_York
BEGIN:DAYLIGHT
TZNAME:EDT
TZOFFSETFROM:-0500
TZOFFSETTO:-0400
DTSTART:19700308T020000
RRULE:FREQ=YEARLY;BYMONTH=3;BYDAY=2SU
END:DAYLIGHT
BEGIN:STANDARD
TZNAME:EST
TZOFFSETFROM:-0400
TZOFFSETTO:-0500
DTSTART:19701101T020000
RRULE:FREQ=YEARLY;BYMONTH=11;BYDAY=1SU
END:STANDARD
END:VTIMEZONE
BEGIN:VEVENT
CATEGORIES:Honors College
DESCRIPTION:The Commonwealth Honors Scholars, Class of 2026 will be present
 ing their APEX Posters at the 41st Annual Honors College Convocation on We
 dnesday, April 29th in the Marketplace. There will be over 75 posters repr
 esenting all five colleges. All are welcome to attend from 3:00-5:00pm. Li
 ght refreshments will be served. \nEvent page: https://www.umassd.edu/eve
 nts/cms/41st-annual-honors-college-convocation.php
X-ALT-DESC;FMTTYPE=text/html:<html><body><p>The Commonwealth Honors Scholar
 s\, Class of 2026 will be presenting their APEX Posters at the 41st Annual
  Honors College Convocation on Wednesday\, April 29th in the Marketplace. 
 There will be over 75 posters representing all five colleges. All are welc
 ome to attend from 3:00-5:00pm. Light refreshments will be served. </p><p
 >Event page: <a href="https://www.umassd.edu/events/cms/41st-annual-honors
 -college-convocation.php">https://www.umassd.edu/events/cms/41st-annual-ho
 nors-college-convocation.php</a></a></p></body></html>
DTSTAMP:20260421T164538
DTSTART;TZID=America/New_York:20260429T150000
DTEND;TZID=America/New_York:20260429T170000
LOCATION:The Marketplace
SUMMARY;LANGUAGE=en-us:41st Annual Honors College Convocation
UID:73abf0998127acd4698b6e13cfb93e11@www.umassd.edu
END:VEVENT
END:VCALENDAR
