BEGIN:VCALENDAR
VERSION:2.0
X-WR-CALNAME:EventsCalendar
PRODID:-//hacksw/handcal//NONSGML v1.0//EN
CALSCALE:GREGORIAN
BEGIN:VTIMEZONE
TZID:America/New_York
LAST-MODIFIED:20240422T053451Z
TZURL:https://www.tzurl.org/zoneinfo-outlook/America/New_York
X-LIC-LOCATION:America/New_York
BEGIN:DAYLIGHT
TZNAME:EDT
TZOFFSETFROM:-0500
TZOFFSETTO:-0400
DTSTART:19700308T020000
RRULE:FREQ=YEARLY;BYMONTH=3;BYDAY=2SU
END:DAYLIGHT
BEGIN:STANDARD
TZNAME:EST
TZOFFSETFROM:-0400
TZOFFSETTO:-0500
DTSTART:19701101T020000
RRULE:FREQ=YEARLY;BYMONTH=11;BYDAY=1SU
END:STANDARD
END:VTIMEZONE
BEGIN:VEVENT
CATEGORIES:College of Engineering,Lectures and Seminars
DESCRIPTION:Abstract: What can parties achieve when they interact with one 
 another using quantum information-resources, that is impossible classicall
 y?I introduce a quantum information–theoretic primitive for determining 
 a discrete-valued function that depends on multiple parties’ local priva
 te inputs.The primitive permits the parties to mutually learn each others'
  local inputs, and thereby determine function values, while their individu
 al systems remain independent of these inputs. The resulting function valu
 es are shared among the parties, but may remain information-theoretically 
 hidden from any external observer, as well as from adversarial state-prepa
 ration or measurement processes within the quantum system, in every iterat
 ion.In particular, while classically producing a shared function with thes
 e information-theoretic properties requires the use of private keys or hid
 den randomness, in the proposed setting it is achieved using entanglement 
 alone -- permitting a quantum computational capability with no classical c
 ounterpart.I'll discuss the primitive's general properties and application
 s across a broad range of secure quantum communication and computation set
 tings including; quantum key distribution, multi-party coordination and de
 cision schemes, function evaluation, and in some settings, protocols for f
 airly generated private coins. Biography: Olivia Hartzell is an independen
 t researcher working at the intersection of quantum information, communica
 tion, and quantum games. Her work explores how quantum-mediated interactio
 ns depart from classical counterparts. She holds a PhD from Harvard Univer
 sity, where her research focused on structural estimation of game-theoreti
 c models and mechanism design. Note: All PHY Graduate Students are encoura
 ged to attend.\nEvent page: https://www.umassd.edu/events/cms/physics-semi
 nar.php\nEvent link: https://umassd.zoom.us/j/95920189607?pwd=TmaJGJewZfTd
 MpIsrBYl1WpEwI9hbM.1
X-ALT-DESC;FMTTYPE=text/html:<html><body><p>Abstract:</p>\n<p>What can part
 ies achieve when they interact with one another using quantum information-
 resources\, that is impossible classically?<br />I introduce a quantum inf
 ormation–theoretic primitive for determining a discrete-valued function 
 that depends on multiple parties’ local private inputs.<br /><br />The p
 rimitive permits the parties to mutually learn each others' local inputs\,
  and thereby determine function values\, while their individual systems re
 main independent of these inputs. The resulting function values are shared
  among the parties\, but may remain information-theoretically hidden from 
 any external observer\, as well as from adversarial state-preparation or m
 easurement processes within the quantum system\, in every iteration.<br />
 <br />In particular\, while classically producing a shared function with t
 hese information-theoretic properties requires the use of private keys or 
 hidden randomness\, in the proposed setting it is achieved using entanglem
 ent alone -- permitting a quantum computational capability with no classic
 al counterpart.<br /><br />I'll discuss the primitive's general properties
  and applications across a broad range of secure quantum communication and
  computation settings including\; quantum key distribution\, multi-party c
 oordination and decision schemes\, function evaluation\, and in some setti
 ngs\, protocols for fairly generated private coins.</p>\n<p>Biography:</p>
 \n<p>Olivia Hartzell is an independent researcher working at the intersect
 ion of quantum information\, communication\, and quantum games. Her work e
 xplores how quantum-mediated interactions depart from classical counterpar
 ts. She holds a PhD from Harvard University\, where her research focused o
 n structural estimation of game-theoretic models and mechanism design.</p>
 \n<p>Note:</p>\n<p>All PHY Graduate Students are <strong>encouraged </stro
 ng>to attend.</p><p>Event page: <a href="https://www.umassd.edu/events/cms
 /physics-seminar.php">https://www.umassd.edu/events/cms/physics-seminar.ph
 p</a><br>Event link: <a href="https://umassd.zoom.us/j/95920189607?pwd=Tma
 JGJewZfTdMpIsrBYl1WpEwI9hbM.1">https://umassd.zoom.us/j/95920189607?pwd=Tm
 aJGJewZfTdMpIsrBYl1WpEwI9hbM.1</a></p></body></html>
DTSTAMP:20260421T164532
DTSTART;TZID=America/New_York:20260423T120000
DTEND;TZID=America/New_York:20260423T140000
LOCATION:SENG 201
SUMMARY;LANGUAGE=en-us:Physics Seminar
UID:df5f9e9a0989ad71f9dddddde69bcf50@www.umassd.edu
END:VEVENT
END:VCALENDAR
