BEGIN:VCALENDAR
VERSION:2.0
X-WR-CALNAME:EventsCalendar
PRODID:-//hacksw/handcal//NONSGML v1.0//EN
CALSCALE:GREGORIAN
BEGIN:VTIMEZONE
TZID:America/New_York
LAST-MODIFIED:20240422T053451Z
TZURL:https://www.tzurl.org/zoneinfo-outlook/America/New_York
X-LIC-LOCATION:America/New_York
BEGIN:DAYLIGHT
TZNAME:EDT
TZOFFSETFROM:-0500
TZOFFSETTO:-0400
DTSTART:19700308T020000
RRULE:FREQ=YEARLY;BYMONTH=3;BYDAY=2SU
END:DAYLIGHT
BEGIN:STANDARD
TZNAME:EST
TZOFFSETFROM:-0400
TZOFFSETTO:-0500
DTSTART:19701101T020000
RRULE:FREQ=YEARLY;BYMONTH=11;BYDAY=1SU
END:STANDARD
END:VTIMEZONE
BEGIN:VEVENT
CATEGORIES:University Marketing,Charlton College of Business,College of Art
 s and Sciences,College of Engineering,College of Nursing and Health Scienc
 es,Career Center,Student Affairs
DESCRIPTION:Since its founding in 1947, Dana-Farber Cancer Institute in Bos
 ton, Massachusetts has been committed to providing adults and children wit
 h cancer with the best treatment available today while developing tomorrow
 's cures through cutting-edge research. Read about our history, our breakt
 hroughs, and the resources that help us support the health of our neighbor
 hoods and communities. We are currently hiring for: Clinical Research Coor
 dinators, Clinical Trial Monitors, Research Project Managers, Clinical Res
 earch Manager, Research Data Specialists, Regulatory Coordinators, Researc
 h Technicians, Administrative Support, Customer Service Support, Social Wo
 rk, Nursing, Business Analysts, Software Engineers, Medical Technologists,
  Clinical Assistants, Philanthropy, Allied Health, Imaging, Pharmacy, Rese
 arch Administration\nEvent page: https://www.umassd.edu/events/cms/employe
 r-of-the-day-dana-farber-cancer-institute.php
X-ALT-DESC;FMTTYPE=text/html:<html><body><p>Since its founding in 1947\, Da
 na-Farber Cancer Institute in Boston\, Massachusetts has been committed to
  providing adults and children with cancer with the best treatment availab
 le today while developing tomorrow's cures through cutting-edge research. 
 Read about our history\, our breakthroughs\, and the resources that help u
 s support the health of our neighborhoods and communities.</p>\n<p>We are 
 currently hiring for:</p>\n<p>Clinical Research Coordinators\, Clinical Tr
 ial Monitors\, Research Project Managers\, Clinical Research Manager\, Res
 earch Data Specialists\, Regulatory Coordinators\, Research Technicians\, 
 Administrative Support\, Customer Service Support\, Social Work\, Nursing\
 , Business Analysts\, Software Engineers\, Medical Technologists\, Clinica
 l Assistants\, Philanthropy\, Allied Health\, Imaging\, Pharmacy\, Researc
 h Administration</p><p>Event page: <a href="https://www.umassd.edu/events/
 cms/employer-of-the-day-dana-farber-cancer-institute.php">https://www.umas
 sd.edu/events/cms/employer-of-the-day-dana-farber-cancer-institute.php</a>
 </a></p></body></html>
DTSTAMP:20260421T181001
DTSTART;TZID=America/New_York:20260422T113000
DTEND;TZID=America/New_York:20260422T143000
LOCATION:DION first floor lobby/Indoor walkway between SENG &amp; DION
SUMMARY;LANGUAGE=en-us:Employer of the Day: Dana-Farber Cancer Institute
UID:ad6e715078141d45bf66c2d2ca3a04e8@www.umassd.edu
END:VEVENT
END:VCALENDAR
