BEGIN:VCALENDAR
VERSION:2.0
X-WR-CALNAME:EventsCalendar
PRODID:-//hacksw/handcal//NONSGML v1.0//EN
CALSCALE:GREGORIAN
BEGIN:VTIMEZONE
TZID:America/New_York
LAST-MODIFIED:20240422T053451Z
TZURL:https://www.tzurl.org/zoneinfo-outlook/America/New_York
X-LIC-LOCATION:America/New_York
BEGIN:DAYLIGHT
TZNAME:EDT
TZOFFSETFROM:-0500
TZOFFSETTO:-0400
DTSTART:19700308T020000
RRULE:FREQ=YEARLY;BYMONTH=3;BYDAY=2SU
END:DAYLIGHT
BEGIN:STANDARD
TZNAME:EST
TZOFFSETFROM:-0400
TZOFFSETTO:-0500
DTSTART:19701101T020000
RRULE:FREQ=YEARLY;BYMONTH=11;BYDAY=1SU
END:STANDARD
END:VTIMEZONE
BEGIN:VEVENT
CATEGORIES:University Marketing,College of Arts and Sciences,College of Nur
 sing and Health Sciences,Career Center,Student Affairs
DESCRIPTION:Looking to make a real impact while launching your career? At K
 ennedy-Donovan Center (KDC), you’ll work directly with children, familie
 s, and individuals across Massachusetts in programs like Early Interventio
 n and family services. We offer hands-on experience, supportive mentorship
 , and opportunities to grow in the human services field. If you’re passi
 onate about helping others, building skills, and being part of a mission-d
 riven team—KDC is the place to start.\nEvent page: https://www.umassd.ed
 u/events/cms/employer-of-the-day-kennedy-donovan-center.php
X-ALT-DESC;FMTTYPE=text/html:<html><body><p>Looking to make a real impact w
 hile launching your career? At Kennedy-Donovan Center (KDC)\, you’ll wor
 k directly with children\, families\, and individuals across Massachusetts
  in programs like Early Intervention and family services. We offer hands-o
 n experience\, supportive mentorship\, and opportunities to grow in the hu
 man services field. If you’re passionate about helping others\, building
  skills\, and being part of a mission-driven team—KDC is the place to st
 art.</p><p>Event page: <a href="https://www.umassd.edu/events/cms/employer
 -of-the-day-kennedy-donovan-center.php">https://www.umassd.edu/events/cms/
 employer-of-the-day-kennedy-donovan-center.php</a></a></p></body></html>
DTSTAMP:20260421T181026
DTSTART;TZID=America/New_York:20260422T113000
DTEND;TZID=America/New_York:20260422T143000
LOCATION:Library Living Room Lobby
SUMMARY;LANGUAGE=en-us:Employer of the Day: Kennedy-Donovan Center
UID:90c6d705e64afb90f7b7a2d2d30bfea0@www.umassd.edu
END:VEVENT
END:VCALENDAR
