BEGIN:VCALENDAR
VERSION:2.0
X-WR-CALNAME:EventsCalendar
PRODID:-//hacksw/handcal//NONSGML v1.0//EN
CALSCALE:GREGORIAN
BEGIN:VTIMEZONE
TZID:America/New_York
LAST-MODIFIED:20240422T053451Z
TZURL:https://www.tzurl.org/zoneinfo-outlook/America/New_York
X-LIC-LOCATION:America/New_York
BEGIN:DAYLIGHT
TZNAME:EDT
TZOFFSETFROM:-0500
TZOFFSETTO:-0400
DTSTART:19700308T020000
RRULE:FREQ=YEARLY;BYMONTH=3;BYDAY=2SU
END:DAYLIGHT
BEGIN:STANDARD
TZNAME:EST
TZOFFSETFROM:-0400
TZOFFSETTO:-0500
DTSTART:19701101T020000
RRULE:FREQ=YEARLY;BYMONTH=11;BYDAY=1SU
END:STANDARD
END:VTIMEZONE
BEGIN:VEVENT
CATEGORIES:Student Affairs
DESCRIPTION:Hey Veterans! Please join us for the last Grub and Gather of th
 e semester, Grub 'N Go, on Thursday, April 30th from 12pm to 3pm. Sandwich
 es and salads will be served. Best of luck on finals! \nEvent page: https
 ://www.umassd.edu/events/cms/veterans-grub-n-go.php
X-ALT-DESC;FMTTYPE=text/html:<html><body><p>Hey Veterans! Please join us fo
 r the last Grub and Gather of the semester\, Grub 'N Go\, on Thursday\, Ap
 ril 30th from 12pm to 3pm. Sandwiches and salads will be served. Best of l
 uck on finals! </p><p>Event page: <a href="https://www.umassd.edu/events/
 cms/veterans-grub-n-go.php">https://www.umassd.edu/events/cms/veterans-gru
 b-n-go.php</a></a></p></body></html>
DTSTAMP:20260424T004441
DTSTART;TZID=America/New_York:20260430T120000
DTEND;TZID=America/New_York:20260430T150000
LOCATION:Campus Center
SUMMARY;LANGUAGE=en-us:Veterans Grub 'N Go
UID:bf84b1c38f7e4110ecb6c2fa3e7e20a6@www.umassd.edu
END:VEVENT
END:VCALENDAR
