BEGIN:VCALENDAR
VERSION:2.0
X-WR-CALNAME:EventsCalendar
PRODID:-//hacksw/handcal//NONSGML v1.0//EN
CALSCALE:GREGORIAN
BEGIN:VTIMEZONE
TZID:America/New_York
LAST-MODIFIED:20240422T053451Z
TZURL:https://www.tzurl.org/zoneinfo-outlook/America/New_York
X-LIC-LOCATION:America/New_York
BEGIN:DAYLIGHT
TZNAME:EDT
TZOFFSETFROM:-0500
TZOFFSETTO:-0400
DTSTART:19700308T020000
RRULE:FREQ=YEARLY;BYMONTH=3;BYDAY=2SU
END:DAYLIGHT
BEGIN:STANDARD
TZNAME:EST
TZOFFSETFROM:-0400
TZOFFSETTO:-0500
DTSTART:19701101T020000
RRULE:FREQ=YEARLY;BYMONTH=11;BYDAY=1SU
END:STANDARD
END:VTIMEZONE
BEGIN:VEVENT
CATEGORIES:College of Arts and Sciences,College of Engineering,Lectures and
  Seminars,SMAST,SMAST Seminar Series,STEM
DESCRIPTION:Seminar Announcement Department of Fisheries Oceanography "Nove
 l Integrated Multitrophic Aquaculture Projects in the Gulf of Maine, Gulf 
 of Mexico, and the Northern Mariana Islands" Michael ChambersAssociate Res
 earch Professor, University of New Hampshire Wednesday, April 29, 20263:00
  - 4:00 pmSMAST E 101-103 and via Zoom Abstract: Interest in integrated mu
 ltitrophic (IMTA) farming technologies is growing in the US, Gulf of Ameri
 ca, and the Pacific. This type of aquaculture incorporates lower trophic s
 pecies that extract inorganic and organic nutrients from a fed species. Th
 is technique has been demonstrated by the University of New Hampshire with
  steelhead trout, blue mussel, and sugar kelp from a floating sea structur
 e called the AquaFort. This farming approach reduces nitrogen input to the
  environment and produces additional species to be sold thus increasing th
 e economic viability of a farm. The platform is used for aquaculture educa
 tion, training, research and demonstration. This small-scale approach ease
 s the permitting process, informs the public on responsible farming method
 s and provides fresh seafood to local markets. A second IMTA project has c
 ommenced offshore of Dauphin Island, AL. This project is funded by the Gul
 f States Marine Fisheries Commission and is currently producing red drum, 
 eastern oysters, and Gracilaria. A third project is underway on Saipan in
  the Northern Marina Islands. This project is in the permitting phase and 
 is currently collecting environmental data for a site offshore of Garapan.
  The status of these projects will be presented.  Join Meeting https://um
 assd.zoom.us/j/93758230260 Note: Meeting ID and passcode required. Please 
 email contact to obtain. For additional information, please contact Callie
  Rumbut at c.rumbut@umassd.edu\nEvent page: https://www.umassd.edu/events
 /cms/smast-seminar---dfo-novel-integrated-multitrophic-aquaculture-project
 s-in-the-gulf-of-maine-gulf-of-mexico-and-the-northern-mariana-islands-by-
 michael-chambers.php\nEvent link: https://umassd.zoom.us/j/93758230260
X-ALT-DESC;FMTTYPE=text/html:<html><body><p>Seminar Announcement</p>\n<p>De
 partment of Fisheries Oceanography</p>\n<p>"Novel Integrated Multitrophic 
 Aquaculture Projects in the Gulf of Maine\, Gulf of Mexico\, and the North
 ern Mariana Islands"</p>\n<p>Michael Chambers<br />Associate Research Prof
 essor\, University of New Hampshire</p>\n<p>Wednesday\, April 29\, 2026<br
  />3:00 - 4:00 pm<br />SMAST E 101-103 and via Zoom</p>\n<p>Abstract:</p>\
 n<p>Interest in integrated multitrophic (IMTA) farming technologies is gro
 wing in the US\, Gulf of America\, and the Pacific. This type of aquacultu
 re incorporates lower trophic species that extract inorganic and organic n
 utrients from a fed species. This technique has been demonstrated by the U
 niversity of New Hampshire with steelhead trout\, blue mussel\, and sugar 
 kelp from a floating sea structure called the AquaFort. This farming appro
 ach reduces nitrogen input to the environment and produces additional spec
 ies to be sold thus increasing the economic viability of a farm. The platf
 orm is used for aquaculture education\, training\, research and demonstrat
 ion. This small-scale approach eases the permitting process\, informs the 
 public on responsible farming methods and provides fresh seafood to local 
 markets. A second IMTA project has commenced offshore of Dauphin Island\, 
 AL. This project is funded by the Gulf States Marine Fisheries Commission 
 and is currently producing red drum\, eastern oysters\, and Gracilaria. A
  third project is underway on Saipan in the Northern Marina Islands. This 
 project is in the permitting phase and is currently collecting environment
 al data for a site offshore of Garapan. The status of these projects will 
 be presented.</p>\n<p> Join Meeting</p>\n<p><a title="https://umassd.zoom
 .us/j/93758230260" href="http://nam12.safelinks.protection.outlook.com/?ur
 l=https%3A%2F%2Ffwna98nab.cc.rs6.net%2Ftn.jsp%3Ff%3D001eZlNA1BZaIoz2X15dmc
 Hq_Ms-HA_PU2eOuAwmpfTEw_WDsjKf7p2sJZJPvFZ-pMwzIOBJX0wL_ZbpYVZvCmYFXho8vCoF
 wxCXQNlpIZHIZmUevItpNdLF22cix8ajbtdC0KUkw4TxZ4Gk_XYo3FxwDUMXtiqgrn760N01U6
 aeM8%3D%26c%3D-IpqnVLavFWEw4TLXukXd1EYLfMjviLj4voCW45zDOEM0eBCA83K9Q%3D%3D
 %26ch%3DRV3veyeuVh1drq0_FNdoIdFAH1TX5TB6sCvOuwlySqaKkUgdBwMHlg%3D%3D&data=
 05%7C02%7Cc.rumbut%40umassd.edu%7C8da480f2c5e440b54db408dd83308b5e%7C328d6
 c0d0f2f4b7693109762ba1c3e2d%7C0%7C0%7C638810966709383638%7CUnknown%7CTWFpb
 GZsb3d8eyJFbXB0eU1hcGkiOnRydWUsIlYiOiIwLjAuMDAwMCIsIlAiOiJXaW4zMiIsIkFOIjo
 iTWFpbCIsIldUIjoyfQ%3D%3D%7C0%7C%7C%7C&sdata=xo9CbrE9%2FqzXVDjNy8IwR5Yzw%2
 FVN789RIM8Zeuo7Dic%3D&reserved=0" target="_blank" rel="noopener">https://u
 massd.zoom.us/j/93758230260</a></p>\n<p>Note: Meeting ID and passcode requ
 ired. Please email contact to obtain.</p>\n<p>For additional information\,
  please contact Callie Rumbut at <a href="http://mailto:cparker3@umassd.e
 du" target="_blank" rel="noopener">c.rumbut@umassd.edu</a></p><p>Event pag
 e: <a href="https://www.umassd.edu/events/cms/smast-seminar---dfo-novel-in
 tegrated-multitrophic-aquaculture-projects-in-the-gulf-of-maine-gulf-of-me
 xico-and-the-northern-mariana-islands-by-michael-chambers.php">https://www
 .umassd.edu/events/cms/smast-seminar---dfo-novel-integrated-multitrophic-a
 quaculture-projects-in-the-gulf-of-maine-gulf-of-mexico-and-the-northern-m
 ariana-islands-by-michael-chambers.php</a><br>Event link: <a href="https:/
 /umassd.zoom.us/j/93758230260">https://umassd.zoom.us/j/93758230260</a></p
 ></body></html>
DTSTAMP:20260424T004205
DTSTART;TZID=America/New_York:20260429T150000
DTEND;TZID=America/New_York:20260429T160000
LOCATION:SMAST East 101-103
SUMMARY;LANGUAGE=en-us:SMAST Seminar - DFO "Novel Integrated Multitrophic A
 quaculture Projects in the Gulf of Maine, Gulf of Mexico, and the Northern
  Mariana Islands" by Michael Chambers
UID:cd3c6ee464147d92b74c79d25066ad75@www.umassd.edu
END:VEVENT
END:VCALENDAR
